BEGIN:VCALENDAR
VERSION:2.0
PRODID:-//Accademia Eleonora Duse - ECPv6.15.20//NONSGML v1.0//EN
CALSCALE:GREGORIAN
METHOD:PUBLISH
X-WR-CALNAME:Accademia Eleonora Duse
X-ORIGINAL-URL:https://www.accademiaduse.it
X-WR-CALDESC:Eventi per Accademia Eleonora Duse
REFRESH-INTERVAL;VALUE=DURATION:PT1H
X-Robots-Tag:noindex
X-PUBLISHED-TTL:PT1H
BEGIN:VTIMEZONE
TZID:Europe/Rome
BEGIN:DAYLIGHT
TZOFFSETFROM:+0100
TZOFFSETTO:+0200
TZNAME:CEST
DTSTART:20250330T010000
END:DAYLIGHT
BEGIN:STANDARD
TZOFFSETFROM:+0200
TZOFFSETTO:+0100
TZNAME:CET
DTSTART:20251026T010000
END:STANDARD
BEGIN:DAYLIGHT
TZOFFSETFROM:+0100
TZOFFSETTO:+0200
TZNAME:CEST
DTSTART:20260329T010000
END:DAYLIGHT
BEGIN:STANDARD
TZOFFSETFROM:+0200
TZOFFSETTO:+0100
TZNAME:CET
DTSTART:20261025T010000
END:STANDARD
BEGIN:DAYLIGHT
TZOFFSETFROM:+0100
TZOFFSETTO:+0200
TZNAME:CEST
DTSTART:20270328T010000
END:DAYLIGHT
BEGIN:STANDARD
TZOFFSETFROM:+0200
TZOFFSETTO:+0100
TZNAME:CET
DTSTART:20271031T010000
END:STANDARD
END:VTIMEZONE
BEGIN:VEVENT
DTSTART;TZID=Europe/Rome:20260123T210000
DTEND;TZID=Europe/Rome:20260123T223000
DTSTAMP:20260423T165725
CREATED:20260113T132138Z
LAST-MODIFIED:20260113T132138Z
UID:4697-1769202000-1769207400@www.accademiaduse.it
SUMMARY:GIROTONDO
DESCRIPTION:Regia di Alessio Nardin. Lo spettacolo è liberamente tratto dall’omonima opera di Artur Schnitzler. La straordinarietà di questo lavoro consiste nell’avere in scena 20 performer che danno vita ad un esperimento artistico unico nel suo genere
URL:https://www.accademiaduse.it/evento/girotondo/
ATTACH;FMTTYPE=image/jpeg:https://www.accademiaduse.it/wp-content/uploads/2026/01/02_GIROTONDO_1-scaled.jpg
END:VEVENT
END:VCALENDAR