BEGIN:VCALENDAR
VERSION:2.0
PRODID:-//Accademia Eleonora Duse - ECPv6.15.20//NONSGML v1.0//EN
CALSCALE:GREGORIAN
METHOD:PUBLISH
X-ORIGINAL-URL:https://www.accademiaduse.it
X-WR-CALDESC:Eventi per Accademia Eleonora Duse
REFRESH-INTERVAL;VALUE=DURATION:PT1H
X-Robots-Tag:noindex
X-PUBLISHED-TTL:PT1H
BEGIN:VTIMEZONE
TZID:Europe/Rome
BEGIN:DAYLIGHT
TZOFFSETFROM:+0100
TZOFFSETTO:+0200
TZNAME:CEST
DTSTART:20240331T010000
END:DAYLIGHT
BEGIN:STANDARD
TZOFFSETFROM:+0200
TZOFFSETTO:+0100
TZNAME:CET
DTSTART:20241027T010000
END:STANDARD
BEGIN:DAYLIGHT
TZOFFSETFROM:+0100
TZOFFSETTO:+0200
TZNAME:CEST
DTSTART:20250330T010000
END:DAYLIGHT
BEGIN:STANDARD
TZOFFSETFROM:+0200
TZOFFSETTO:+0100
TZNAME:CET
DTSTART:20251026T010000
END:STANDARD
BEGIN:DAYLIGHT
TZOFFSETFROM:+0100
TZOFFSETTO:+0200
TZNAME:CEST
DTSTART:20260329T010000
END:DAYLIGHT
BEGIN:STANDARD
TZOFFSETFROM:+0200
TZOFFSETTO:+0100
TZNAME:CET
DTSTART:20261025T010000
END:STANDARD
END:VTIMEZONE
BEGIN:VEVENT
DTSTART;TZID=Europe/Rome:20250904T163000
DTEND;TZID=Europe/Rome:20250904T180000
DTSTAMP:20260423T221610
CREATED:20250827T131458Z
LAST-MODIFIED:20250827T131458Z
UID:4511-1757003400-1757008800@www.accademiaduse.it
SUMMARY:Premiazione Cinema&Arts 2025 -Mostra del Cinema Venezia
DESCRIPTION:
URL:https://www.accademiaduse.it/evento/cinemaarts/
LOCATION:Spazio Incontri Venice Production Bridge\, all’Hotel Excelsior del Lido di Venezia\, Lido di Venezia
ATTACH;FMTTYPE=image/jpeg:https://www.accademiaduse.it/wp-content/uploads/2025/08/DSC00479-scaled.jpg
ORGANIZER;CN="Accademia E. Duse":MAILTO:segreteria@accademiaduse.it
END:VEVENT
END:VCALENDAR