BEGIN:VCALENDAR
VERSION:2.0
PRODID:-//Accademia Eleonora Duse - ECPv6.15.20//NONSGML v1.0//EN
CALSCALE:GREGORIAN
METHOD:PUBLISH
X-WR-CALNAME:Accademia Eleonora Duse
X-ORIGINAL-URL:https://www.accademiaduse.it
X-WR-CALDESC:Eventi per Accademia Eleonora Duse
REFRESH-INTERVAL;VALUE=DURATION:PT1H
X-Robots-Tag:noindex
X-PUBLISHED-TTL:PT1H
BEGIN:VTIMEZONE
TZID:Europe/Rome
BEGIN:DAYLIGHT
TZOFFSETFROM:+0100
TZOFFSETTO:+0200
TZNAME:CEST
DTSTART:20250330T010000
END:DAYLIGHT
BEGIN:STANDARD
TZOFFSETFROM:+0200
TZOFFSETTO:+0100
TZNAME:CET
DTSTART:20251026T010000
END:STANDARD
BEGIN:DAYLIGHT
TZOFFSETFROM:+0100
TZOFFSETTO:+0200
TZNAME:CEST
DTSTART:20260329T010000
END:DAYLIGHT
BEGIN:STANDARD
TZOFFSETFROM:+0200
TZOFFSETTO:+0100
TZNAME:CET
DTSTART:20261025T010000
END:STANDARD
BEGIN:DAYLIGHT
TZOFFSETFROM:+0100
TZOFFSETTO:+0200
TZNAME:CEST
DTSTART:20270328T010000
END:DAYLIGHT
BEGIN:STANDARD
TZOFFSETFROM:+0200
TZOFFSETTO:+0100
TZNAME:CET
DTSTART:20271031T010000
END:STANDARD
END:VTIMEZONE
BEGIN:VEVENT
DTSTART;TZID=Europe/Rome:20260206T210000
DTEND;TZID=Europe/Rome:20260206T223000
DTSTAMP:20260423T221728
CREATED:20260113T132736Z
LAST-MODIFIED:20260113T132736Z
UID:4700-1770411600-1770417000@www.accademiaduse.it
SUMMARY:ErotiCaos
DESCRIPTION:Regia di Cristina Da Ponte. Partiture di danzateatro che s’intrecciano nello spazio dando vita  auna sinfonia di corpi disgregati che viaggiano verso l’unione e la libertà.
URL:https://www.accademiaduse.it/evento/eroticaos/
LOCATION:Sala Teatro Cavallino-Treporti\, piazza Paolo Giovanni II\, 1\, Cavallino-TReporti\, 30013
ATTACH;FMTTYPE=image/jpeg:https://www.accademiaduse.it/wp-content/uploads/2026/01/04_EROTCAOS-scaled.jpg
END:VEVENT
BEGIN:VEVENT
DTSTART;TZID=Europe/Rome:20260215T150000
DTEND;TZID=Europe/Rome:20260215T170000
DTSTAMP:20260423T221728
CREATED:20260216T092937Z
LAST-MODIFIED:20260216T092937Z
UID:4787-1771167600-1771174800@www.accademiaduse.it
SUMMARY:Festival della Maschera 2° Edizione
DESCRIPTION:Carnevale ad Asolo con il festival della Maschera
URL:https://www.accademiaduse.it/evento/festival-della-maschera-2-edizione/
ATTACH;FMTTYPE=image/jpeg:https://www.accademiaduse.it/wp-content/uploads/2026/02/Festival-maschera-asolo-2026.jpg
END:VEVENT
BEGIN:VEVENT
DTSTART;TZID=Europe/Rome:20260217T150000
DTEND;TZID=Europe/Rome:20260217T180000
DTSTAMP:20260423T221728
CREATED:20260216T093232Z
LAST-MODIFIED:20260216T093442Z
UID:4789-1771340400-1771351200@www.accademiaduse.it
SUMMARY:Festival della Maschera 2° Edizione
DESCRIPTION:Carnevale ad Asolo con il festival della Maschera\, scene in maschera e spettacoli itineranti. Domenica 15 febbraio e Martedì 17 febbraio.
URL:https://www.accademiaduse.it/evento/festival-della-maschera-2-edizione-2/
LOCATION:Loggia Cornaro\, Asolo\, via Regina Cornaro 3\, Asolo
ATTACH;FMTTYPE=image/jpeg:https://www.accademiaduse.it/wp-content/uploads/2026/02/Festival-maschera-asolo-2026.jpg
ORGANIZER;CN="Accademia E. Duse":MAILTO:segreteria@accademiaduse.it
END:VEVENT
BEGIN:VEVENT
DTSTART;TZID=Europe/Rome:20260220T210000
DTEND;TZID=Europe/Rome:20260220T223000
DTSTAMP:20260423T221728
CREATED:20260113T133319Z
LAST-MODIFIED:20260113T133319Z
UID:4704-1771621200-1771626600@www.accademiaduse.it
SUMMARY:L'inganno di Shakespeare
DESCRIPTION:Regia di Alessio Nardin. In scena l’intreccio di trame che si dipanano con leggerezza\, ironia\, satira e momenti di intensa umanità\, attraverso scene che si ispirano alle opere di Shakespeare. Lo sviluppo della trama è impreziosito da musiche dal vivo\, canti popolari\, combattimenti\, pantomime e momenti di poesia e satira sociale.
URL:https://www.accademiaduse.it/evento/linganno-di-shakespeare/
LOCATION:Sala Teatro Cavallino-Treporti\, piazza Paolo Giovanni II\, 1\, Cavallino-TReporti\, 30013
ATTACH;FMTTYPE=image/jpeg:https://www.accademiaduse.it/wp-content/uploads/2026/01/06_INGANNO-DI-SHAKESPEARE.jpg
END:VEVENT
BEGIN:VEVENT
DTSTART;TZID=Europe/Rome:20260305T210000
DTEND;TZID=Europe/Rome:20260305T220000
DTSTAMP:20260423T221728
CREATED:20260302T145858Z
LAST-MODIFIED:20260302T145858Z
UID:4832-1772744400-1772748000@www.accademiaduse.it
SUMMARY:Storia di un'amicizia
DESCRIPTION:Lezione aperta alla cittadinanza. Con letture del libro e incontro con l’artista Ermanno Cavazzoni.
URL:https://www.accademiaduse.it/evento/storia-di-unamicizia/
LOCATION:Sala Consiliare palazzo Beltramini\, Asolo
ATTACH;FMTTYPE=image/png:https://www.accademiaduse.it/wp-content/uploads/2026/03/05-MARZO-2026_CAAVAZZONI.png
ORGANIZER;CN="Accademia E. Duse":MAILTO:segreteria@accademiaduse.it
END:VEVENT
BEGIN:VEVENT
DTSTART;TZID=Europe/Rome:20260319T210000
DTEND;TZID=Europe/Rome:20260319T220000
DTSTAMP:20260423T221728
CREATED:20260317T161401Z
LAST-MODIFIED:20260317T161448Z
UID:4845-1773954000-1773957600@www.accademiaduse.it
SUMMARY:L'attore tra cinema e teatro
DESCRIPTION:
URL:https://www.accademiaduse.it/evento/lattore-tra-cinema-e-teatro/
LOCATION:Sala Consiliare palazzo Beltramini\, Asolo
ATTACH;FMTTYPE=image/jpeg:https://www.accademiaduse.it/wp-content/uploads/2026/03/IMG-20260317-WA0000.jpg
ORGANIZER;CN="Accademia E. Duse":MAILTO:segreteria@accademiaduse.it
END:VEVENT
BEGIN:VEVENT
DTSTART;TZID=Europe/Rome:20260320T210000
DTEND;TZID=Europe/Rome:20260320T223000
DTSTAMP:20260423T221728
CREATED:20260113T133839Z
LAST-MODIFIED:20260113T133839Z
UID:4707-1774040400-1774045800@www.accademiaduse.it
SUMMARY:Perpetuapax!
DESCRIPTION:Regia di Alessio Nardin. Spettacolo selezionato dall’International Solo Festival di Diyarbakir (Turchia). Liberamente ispirato a diversi testi filosofici sul rapporto tra natura umana\, Stato\, violenza\, guerra e pace. Partendo dal mito di Elena\, passando per Caino e Abele e giungendo a toccare testi come “Il Principe” di Macchiavelli\, “La pace perpetua” di I. Kant\, l’azione scenica inviterà lo spettatore a interrogarsi sul presente e sul futuro dell’individuo e della comunità.
URL:https://www.accademiaduse.it/evento/perpetuapax/
LOCATION:Sala Teatro Cavallino-Treporti\, piazza Paolo Giovanni II\, 1\, Cavallino-TReporti\, 30013
ATTACH;FMTTYPE=image/jpeg:https://www.accademiaduse.it/wp-content/uploads/2026/01/09_PERPETUAPAX.jpg
END:VEVENT
BEGIN:VEVENT
DTSTART;TZID=Europe/Rome:20260410T210000
DTEND;TZID=Europe/Rome:20260410T223000
DTSTAMP:20260423T221728
CREATED:20260415T143305Z
LAST-MODIFIED:20260415T143305Z
UID:4895-1775854800-1775860200@www.accademiaduse.it
SUMMARY:Teatro: forma di resistenza nella società
DESCRIPTION:Lezione aperta alla cittadinanza con proiezione di video e incontro con l’artista Fabio Tolledi.
URL:https://www.accademiaduse.it/evento/teatro-forma-di-resistenza-nella-societa/
LOCATION:Sala Consiliare palazzo Beltramini\, Asolo
ATTACH;FMTTYPE=image/jpeg:https://www.accademiaduse.it/wp-content/uploads/2026/04/tolledi-2026-1.jpg
END:VEVENT
BEGIN:VEVENT
DTSTART;TZID=Europe/Rome:20260416T210000
DTEND;TZID=Europe/Rome:20260416T223000
DTSTAMP:20260423T221728
CREATED:20260415T143048Z
LAST-MODIFIED:20260415T143048Z
UID:4893-1776373200-1776378600@www.accademiaduse.it
SUMMARY:L'attore come corpo e voce
DESCRIPTION:Incontro con l’artista Roberta Carreri e proiezione del film “Zona limite” di Stefano di Buduo.
URL:https://www.accademiaduse.it/evento/lattore-come-corpo-e-voce/
LOCATION:Sala Consiliare palazzo Beltramini\, Asolo
ATTACH;FMTTYPE=image/jpeg:https://www.accademiaduse.it/wp-content/uploads/2026/04/carreri-2026.jpg
END:VEVENT
BEGIN:VEVENT
DTSTART;TZID=Europe/Rome:20260417T080000
DTEND;TZID=Europe/Rome:20260417T183000
DTSTAMP:20260423T221728
CREATED:20260415T142753Z
LAST-MODIFIED:20260415T142753Z
UID:4890-1776412800-1776450600@www.accademiaduse.it
SUMMARY:Racconti del desiderio
DESCRIPTION:Intervento teatrale da l’Aleph di Jorge Luis Borges\, di Fabio Tolledi. Con gli allievi-attori del 2° e 3° anno dell’ Accademia Duse.
URL:https://www.accademiaduse.it/evento/racconti-del-desiderio/
LOCATION:Spazio Urbano di Asolo
ATTACH;FMTTYPE=image/jpeg:https://www.accademiaduse.it/wp-content/uploads/2026/04/racconti-del-desiderio-2026.jpg
ORGANIZER;CN="Accademia E. Duse":MAILTO:segreteria@accademiaduse.it
END:VEVENT
END:VCALENDAR