BEGIN:VCALENDAR
VERSION:2.0
PRODID:-//Accademia Eleonora Duse - ECPv6.15.20//NONSGML v1.0//EN
CALSCALE:GREGORIAN
METHOD:PUBLISH
X-WR-CALNAME:Accademia Eleonora Duse
X-ORIGINAL-URL:https://www.accademiaduse.it
X-WR-CALDESC:Eventi per Accademia Eleonora Duse
REFRESH-INTERVAL;VALUE=DURATION:PT1H
X-Robots-Tag:noindex
X-PUBLISHED-TTL:PT1H
BEGIN:VTIMEZONE
TZID:Europe/Rome
BEGIN:DAYLIGHT
TZOFFSETFROM:+0100
TZOFFSETTO:+0200
TZNAME:CEST
DTSTART:20230326T010000
END:DAYLIGHT
BEGIN:STANDARD
TZOFFSETFROM:+0200
TZOFFSETTO:+0100
TZNAME:CET
DTSTART:20231029T010000
END:STANDARD
BEGIN:DAYLIGHT
TZOFFSETFROM:+0100
TZOFFSETTO:+0200
TZNAME:CEST
DTSTART:20240331T010000
END:DAYLIGHT
BEGIN:STANDARD
TZOFFSETFROM:+0200
TZOFFSETTO:+0100
TZNAME:CET
DTSTART:20241027T010000
END:STANDARD
BEGIN:DAYLIGHT
TZOFFSETFROM:+0100
TZOFFSETTO:+0200
TZNAME:CEST
DTSTART:20250330T010000
END:DAYLIGHT
BEGIN:STANDARD
TZOFFSETFROM:+0200
TZOFFSETTO:+0100
TZNAME:CET
DTSTART:20251026T010000
END:STANDARD
BEGIN:DAYLIGHT
TZOFFSETFROM:+0100
TZOFFSETTO:+0200
TZNAME:CEST
DTSTART:20260329T010000
END:DAYLIGHT
BEGIN:STANDARD
TZOFFSETFROM:+0200
TZOFFSETTO:+0100
TZNAME:CET
DTSTART:20261025T010000
END:STANDARD
BEGIN:DAYLIGHT
TZOFFSETFROM:+0100
TZOFFSETTO:+0200
TZNAME:CEST
DTSTART:20270328T010000
END:DAYLIGHT
BEGIN:STANDARD
TZOFFSETFROM:+0200
TZOFFSETTO:+0100
TZNAME:CET
DTSTART:20271031T010000
END:STANDARD
END:VTIMEZONE
BEGIN:VTIMEZONE
TZID:UTC
BEGIN:STANDARD
TZOFFSETFROM:+0000
TZOFFSETTO:+0000
TZNAME:UTC
DTSTART:20230101T000000
END:STANDARD
END:VTIMEZONE
BEGIN:VEVENT
DTSTART;TZID=Europe/Rome:20260215T150000
DTEND;TZID=Europe/Rome:20260215T170000
DTSTAMP:20260423T195229
CREATED:20260216T092937Z
LAST-MODIFIED:20260216T092937Z
UID:4787-1771167600-1771174800@www.accademiaduse.it
SUMMARY:Festival della Maschera 2° Edizione
DESCRIPTION:Carnevale ad Asolo con il festival della Maschera
URL:https://www.accademiaduse.it/evento/festival-della-maschera-2-edizione/
ATTACH;FMTTYPE=image/jpeg:https://www.accademiaduse.it/wp-content/uploads/2026/02/Festival-maschera-asolo-2026.jpg
END:VEVENT
BEGIN:VEVENT
DTSTART;TZID=Europe/Rome:20260206T210000
DTEND;TZID=Europe/Rome:20260206T223000
DTSTAMP:20260423T195229
CREATED:20260113T132736Z
LAST-MODIFIED:20260113T132736Z
UID:4700-1770411600-1770417000@www.accademiaduse.it
SUMMARY:ErotiCaos
DESCRIPTION:Regia di Cristina Da Ponte. Partiture di danzateatro che s’intrecciano nello spazio dando vita  auna sinfonia di corpi disgregati che viaggiano verso l’unione e la libertà.
URL:https://www.accademiaduse.it/evento/eroticaos/
LOCATION:Sala Teatro Cavallino-Treporti\, piazza Paolo Giovanni II\, 1\, Cavallino-TReporti\, 30013
ATTACH;FMTTYPE=image/jpeg:https://www.accademiaduse.it/wp-content/uploads/2026/01/04_EROTCAOS-scaled.jpg
END:VEVENT
BEGIN:VEVENT
DTSTART;TZID=Europe/Rome:20260123T210000
DTEND;TZID=Europe/Rome:20260123T223000
DTSTAMP:20260423T195229
CREATED:20260113T132138Z
LAST-MODIFIED:20260113T132138Z
UID:4697-1769202000-1769207400@www.accademiaduse.it
SUMMARY:GIROTONDO
DESCRIPTION:Regia di Alessio Nardin. Lo spettacolo è liberamente tratto dall’omonima opera di Artur Schnitzler. La straordinarietà di questo lavoro consiste nell’avere in scena 20 performer che danno vita ad un esperimento artistico unico nel suo genere
URL:https://www.accademiaduse.it/evento/girotondo/
ATTACH;FMTTYPE=image/jpeg:https://www.accademiaduse.it/wp-content/uploads/2026/01/02_GIROTONDO_1-scaled.jpg
END:VEVENT
BEGIN:VEVENT
DTSTART;TZID=Europe/Rome:20251125T204500
DTEND;TZID=Europe/Rome:20251125T230000
DTSTAMP:20260423T195229
CREATED:20251120T134634Z
LAST-MODIFIED:20251124T143900Z
UID:4673-1764103500-1764111600@www.accademiaduse.it
SUMMARY:Lasciami essere
DESCRIPTION:
URL:https://www.accademiaduse.it/evento/lasciami-essere/
LOCATION:Teatro Duse\, Via Regina Cornaro\, 3\, Asolo\, TV\, 31011\, Italia
ATTACH;FMTTYPE=image/jpeg:https://www.accademiaduse.it/wp-content/uploads/2025/11/LASCIAMI-ESSERE-2025.jpg
END:VEVENT
BEGIN:VEVENT
DTSTART;TZID=Europe/Rome:20250904T163000
DTEND;TZID=Europe/Rome:20250904T180000
DTSTAMP:20260423T195229
CREATED:20250827T131458Z
LAST-MODIFIED:20250827T131458Z
UID:4511-1757003400-1757008800@www.accademiaduse.it
SUMMARY:Premiazione Cinema&Arts 2025 -Mostra del Cinema Venezia
DESCRIPTION:
URL:https://www.accademiaduse.it/evento/cinemaarts/
LOCATION:Spazio Incontri Venice Production Bridge\, all’Hotel Excelsior del Lido di Venezia\, Lido di Venezia
ATTACH;FMTTYPE=image/jpeg:https://www.accademiaduse.it/wp-content/uploads/2025/08/DSC00479-scaled.jpg
ORGANIZER;CN="Accademia E. Duse":MAILTO:segreteria@accademiaduse.it
END:VEVENT
BEGIN:VEVENT
DTSTART;TZID=Europe/Rome:20250812T210000
DTEND;TZID=Europe/Rome:20250812T223000
DTSTAMP:20260423T195229
CREATED:20250805T134549Z
LAST-MODIFIED:20250805T134549Z
UID:4494-1755032400-1755037800@www.accademiaduse.it
SUMMARY:L'arte della Commedia
DESCRIPTION:Martedì 12 agosto 2025\, ore 21\, parco Baden-Powel Loc. Ca’Savio\, Cavallino-Treporti (Ve). Spettacolo di Commedia dell’Arte degli allievi del I anno di Accademia Duse.
URL:https://www.accademiaduse.it/evento/larte-della-commedia/
ATTACH;FMTTYPE=image/jpeg:https://www.accademiaduse.it/wp-content/uploads/2025/08/IMG1641@@PL-7-scaled.jpg
ORGANIZER;CN="Accademia E. Duse":MAILTO:segreteria@accademiaduse.it
END:VEVENT
BEGIN:VEVENT
DTSTART;TZID=Europe/Rome:20250810T213000
DTEND;TZID=Europe/Rome:20250810T233000
DTSTAMP:20260423T195229
CREATED:20250805T135341Z
LAST-MODIFIED:20250805T135341Z
UID:4497-1754861400-1754868600@www.accademiaduse.it
SUMMARY:Le maschere nelle NOTTI DEL VINO
DESCRIPTION:Performance continuativa degli allievi di Accademia Duse.
URL:https://www.accademiaduse.it/evento/le-maschere-nelle-notti-del-vino/
LOCATION:Pedana del castello Cornaro\, Asolo
ATTACH;FMTTYPE=image/jpeg:https://www.accademiaduse.it/wp-content/uploads/2023/05/03_06_11_155-RES.jpg
ORGANIZER;CN="Accademia E. Duse":MAILTO:segreteria@accademiaduse.it
END:VEVENT
BEGIN:VEVENT
DTSTART;TZID=Europe/Rome:20250719T210000
DTEND;TZID=Europe/Rome:20250719T223000
DTSTAMP:20260423T195229
CREATED:20250805T134154Z
LAST-MODIFIED:20250805T134154Z
UID:4491-1752958800-1752964200@www.accademiaduse.it
SUMMARY:Il mito della Maschera
DESCRIPTION:Sabato 19 luglio 2025\, ore 21\, piazza S.M. Elisabetta Cavallino-Treporti (Ve). Spettacolo di Commedia dell’Arte degli allievi del I anno di Accademia Duse.
URL:https://www.accademiaduse.it/evento/il-mito-della-maschera/
LOCATION:Piazza S.M. Elisabetta Cavallino-Treporti (Ve)
ATTACH;FMTTYPE=image/jpeg:https://www.accademiaduse.it/wp-content/uploads/2024/09/IMG1671@@PL-7-scaled.jpg
ORGANIZER;CN="Accademia E. Duse":MAILTO:segreteria@accademiaduse.it
END:VEVENT
BEGIN:VEVENT
DTSTART;TZID=Europe/Rome:20250718T183000
DTEND;TZID=Europe/Rome:20250718T203000
DTSTAMP:20260423T195229
CREATED:20250730T154211Z
LAST-MODIFIED:20250730T154211Z
UID:4320-1752863400-1752870600@www.accademiaduse.it
SUMMARY:La commedia
DESCRIPTION:Performance finale I anno di Commedia dell’Arte
URL:https://www.accademiaduse.it/evento/la-commedia/
ATTACH;FMTTYPE=image/jpeg:https://www.accademiaduse.it/wp-content/uploads/2024/09/IMG1643@@PL-7-scaled.jpg
ORGANIZER;CN="Accademia E. Duse":MAILTO:segreteria@accademiaduse.it
END:VEVENT
BEGIN:VEVENT
DTSTART;TZID=Europe/Rome:20250717T190000
DTEND;TZID=Europe/Rome:20250717T220000
DTSTAMP:20260423T195229
CREATED:20250730T154001Z
LAST-MODIFIED:20250730T154001Z
UID:4318-1752778800-1752789600@www.accademiaduse.it
SUMMARY:Questioning GBV (Gender based violence)
DESCRIPTION:Durational performance in forma di studio. Performance finale del II anno curata da Beatrice Bresolin con Vittoria Caneva Base 9
URL:https://www.accademiaduse.it/evento/questioning-gbv-gender-based-violence/
END:VEVENT
BEGIN:VEVENT
DTSTART;VALUE=DATE:20250717
DTEND;VALUE=DATE:20250718
DTSTAMP:20260423T195229
CREATED:20250805T133657Z
LAST-MODIFIED:20250805T133657Z
UID:4489-1752710400-1752796799@www.accademiaduse.it
SUMMARY:Maschera\, acrobazie e divertimento
DESCRIPTION:Venerdì 17 luglio 2025\, Loggia Cornaro ad Asolo\, lezione aperta di fine Masterclass di Maschera degli allievi dell’Accademia Duse.
URL:https://www.accademiaduse.it/evento/maschera-acrobazie-e-divertimento/
ATTACH;FMTTYPE=image/jpeg:https://www.accademiaduse.it/wp-content/uploads/2023/07/IMG20220809134119-RES.jpg
ORGANIZER;CN="Accademia E. Duse":MAILTO:segreteria@accademiaduse.it
END:VEVENT
BEGIN:VEVENT
DTSTART;TZID=Europe/Rome:20250711T160000
DTEND;TZID=Europe/Rome:20250711T190000
DTSTAMP:20260423T195229
CREATED:20250730T153058Z
LAST-MODIFIED:20250730T153058Z
UID:4315-1752249600-1752260400@www.accademiaduse.it
SUMMARY:Teatro e narrazione
DESCRIPTION:Lezione-spettacolo del professor Roberto Cuppone (Università di Genova).
URL:https://www.accademiaduse.it/evento/teatro-e-narrazione/
LOCATION:Sala Consiliare palazzo Beltramini\, Asolo
ATTACH;FMTTYPE=image/jpeg:https://www.accademiaduse.it/wp-content/uploads/2025/07/I_LUOGHI_DELLAZIONE_2025-Accademia_20250710_152011_0000.jpg
ORGANIZER;CN="Accademia E. Duse":MAILTO:segreteria@accademiaduse.it
END:VEVENT
BEGIN:VEVENT
DTSTART;TZID=Europe/Rome:20250704T160000
DTEND;TZID=Europe/Rome:20250704T190000
DTSTAMP:20260423T195229
CREATED:20250730T150813Z
LAST-MODIFIED:20250730T152423Z
UID:4309-1751644800-1751655600@www.accademiaduse.it
SUMMARY:Teatro fuori dai teatri
DESCRIPTION:
URL:https://www.accademiaduse.it/evento/teatro-fuori-dai-teatri/
LOCATION:Sala della Ragione\, Asolo\, Centro Storico\, Asolo
ORGANIZER;CN="Accademia E. Duse":MAILTO:segreteria@accademiaduse.it
END:VEVENT
BEGIN:VEVENT
DTSTART;TZID=Europe/Rome:20250302T150000
DTEND;TZID=Europe/Rome:20250302T190000
DTSTAMP:20260423T195229
CREATED:20250310T160800Z
LAST-MODIFIED:20250730T152615Z
UID:3690-1740927600-1740942000@www.accademiaduse.it
SUMMARY:Festival della Maschera - I edizione
DESCRIPTION:
URL:https://www.accademiaduse.it/evento/festival-della-maschera-i-edizione/
LOCATION:Sala della Ragione\, Asolo\, Centro Storico\, Asolo
END:VEVENT
BEGIN:VEVENT
DTSTART;TZID=UTC:20240920T100000
DTEND;TZID=UTC:20241006T193000
DTSTAMP:20260423T195229
CREATED:20231231T230010Z
LAST-MODIFIED:20240914T111848Z
UID:2366-1726826400-1728243000@www.accademiaduse.it
SUMMARY:LEZIONI PRATICHE DI ARTE DRAMMATICA dirette da  ALESSIO NARDIN
DESCRIPTION:LEZIONI PRATICHE DI ARTE DRAMMATICA su Luigi Pirandello\ndiretta da \nAlessio Nardin \n25 SETTEMBRE – 6 OTTOBRE 2024\npresso Centro Sperimentale Accademia Eleonora Duse \nTeatro Duse Asolo (Treviso) Italia \nUn punto di vista su Pirandello \nNulla è fissato e statico nella performance\, tutto deve essere creato nel momento in cui avviene. L’azione non si fa\, si manifesta\, come una “epifania”. Per fare ciò necessito di attori che siano autori di azione: il lavoro di laboratorio ha proprio questo obbiettivo. \nPer continuare la vita dell’azione del drammaturgo sarà necessario svolgere durante la masterclass un lavoro basico sulla creazione di una drammaturgia dell’azione o se vogliamo un “testo dell’azione”. Questa è una scrittura individuale di ogni attore che ha come inchiostro il conflitto dato dalla drammaturgia e come penna il corpo\, la parola\, le emozioni di ogni attore. Il conflitto non è statico ma in continuo movimento e alimentato da “movimenti”. Il lavoro sulla drammaturgia sarà così ripartito: -1- Con gli attori analizzeremo “in piedi” la drammaturgia scelta e vedremo come costruire il conflitto: partiremo dal conflitto che si origina da un tema (che è comune ai due attori) e apprenderemo come svilupparlo attraverso la situazione e viceversa. -2- Con tutti questi strumenti passaremo alla pratica delle scene attraverso degli “studi” pratici dei testi pirandelliani. Lavoreremo su LA VITA CHE TI DIEDI. A partire dall’analisi “in piedi” andremo ad individuare e assumere nella nostra organica i motori del conflitto stesso. \nMATERIE DI INSEGNAMENTO \nû  TRAINING FISICO-ENERGETICO \nû  ANALISI DELLA STRUTTURA DEL CONFLITTO \nû  PRATICA DELL’AZIONE  \nDURATA e MODALITÀ della MASTERCLASS \nIl corso avrà una durata di 100 ore distribuite in tredici giorni di lavoro\, ciascuno dei quali prevede 7h30min di lavoro distribuito con i seguenti orari: 10.00-13.00; 14.00-19.30. \nlingua: italiano\, inglese\, francese \nPossibilità per gli attori e allievi-attori di soggiornare a prezzi convenzionati presso strutture convenzionate della città. \nCOSTO     270 EURO per chi si iscrive entro il 20 settembre 2024 \n                350 EURO  per chi si iscrive oltre il 20 settembre 2024 \nPossibilità di accesso a Borse di Studio \nPer informazioni contattare: \nBarbara Bacci \nphone:  +39 0415300674                      mobile:  +39 3515227674  \ne-mail: \nsegreteria@accademiaduse.it \naltaformazione@accademiaduse.it \nScarica il modulo privacy: [download id=”2480″] \n\nRichiesta_partecipazione_masterclass_AED_2024
URL:https://www.accademiaduse.it/evento/lezioni-pratiche-di-arte-drammatica-dirette-da-alessio-nardin/
LOCATION:Teatro Duse\, Via Regina Cornaro\, 3\, Asolo\, TV\, 31011\, Italia
CATEGORIES:Masterclass
ATTACH;FMTTYPE=image/jpeg:https://www.accademiaduse.it/wp-content/uploads/2024/01/DSC_0161-scaled.jpg
ORGANIZER;CN="Accademia E. Duse":MAILTO:segreteria@accademiaduse.it
END:VEVENT
BEGIN:VEVENT
DTSTART;VALUE=DATE:20240905
DTEND;VALUE=DATE:20240906
DTSTAMP:20260423T195229
CREATED:20240101T230032Z
LAST-MODIFIED:20240917T093712Z
UID:2387-1725494400-1725580799@www.accademiaduse.it
SUMMARY:81° MOSTRA INTERNAZIONALE DI ARTE CINEMATOGRAFICA
DESCRIPTION:Lido di Venezia\nBiennale Cinema 2024\n81° Mostra Internazionale d’Arte Cinematografica\nL’Accademia Duse termina il suo primo anno accademico partecipando con un progetto importante alla 81° Mostra Internazionale di Arte Cinematografica La Biennale di Venezia. \nIl primo anno di attività ha visto l’Accademia impegnata con successo su più fronti: le masterclass internazionali di Alta Formazione hanno visto la partecipazione di più di 150 attori e registi da tutta Europa; il primo anno del  Percorso Triennale per Registi e Attori che ha visto 15 attori provenienti da tutta Italia lavorare continuativamente al Teatro Duse da dicembre 2023 a luglio 2024. Importanti il sostegno delle Istituzioni locali e nazionali a vari livelli: in primis il Comune di Asolo\, le Università Federico II di Napoli e di Genova\, progetti con la Regione Veneto\, il Comune di Venezia\, il Comune di Cavallino-Treporti. \nGli allievi registi ed attori di Accademia Duse – Centro Sperimentale di Cinema e Arti Performative e gli attori provenienti dalle masterclass internazionali dell’Accademia stessa hanno partecipato\, cone gruppo di studio\, all’interno del premio “Cinema&Arts” della 81° Mostra Internazionale di Arte Cinematografica La Biennale di Venezia. \nInoltre tale gruppo è stato coinvolto come “giuria demoscopica” del premio stesso. Gli allievi hanno visionato tutti i film in concorso al premio e sotto la guida del maestro Nardin hanno studiato le varie opere e hanno fatto molteplici incontri e lezioni di cinematografia. Al termine del percorso hanno partecipato all’evento di premiazione del 5 settembre 2024 incontrando registi ed attori internazionali delle opere premiate. \n \nScarica il modulo privacy: [download id=”2480″]
URL:https://www.accademiaduse.it/evento/81-mostra-internazionale-di-arte-cinematografica/
LOCATION:Hotel Excelsior\, Lungomare Guglielmo Marconi\, 41\, 30126 Lido VE\, Venezia\, Italia\, 30126
CATEGORIES:Masterclass
ATTACH;FMTTYPE=image/jpeg:https://www.accademiaduse.it/wp-content/uploads/2024/01/DSC_0004-scaled.jpg
ORGANIZER;CN="Accademia E. Duse":MAILTO:segreteria@accademiaduse.it
END:VEVENT
BEGIN:VEVENT
DTSTART;TZID=UTC:20240727T000000
DTEND;TZID=UTC:20241106T000000
DTSTAMP:20260423T195229
CREATED:20240102T230008Z
LAST-MODIFIED:20251021T121917Z
UID:2414-1722038400-1730851200@www.accademiaduse.it
SUMMARY:BANDO DI AMMISSIONE CORSO TRIENNALE PER ALLIEVI ATTORI E REGISTI
DESCRIPTION:BANDO_AMMISSIONE_2025_2026_AED\n					 \nBANDO DI AMMISSIONE CORSO TRIENNALE PER ALLIEVI ATTORI E REGISTI\nSono aperte le iscrizioni per il nuovo Anno Accademico 2025/2026 al Corso Triennale per Allievi Attori e Registi della ACCADEMIA ELEONORA DUSE – Centro Sperimentale di Cinema e Arti Performative diretta da Alessio Nardin. \nUN PERCORSO continuativo di oltre 750 ore per tre annualità. Le principali materie di studio saranno: BIOMECCANICA TEATRALE\, RECITAZIONE CINEMATOGRAFICA E TEATRALE\, REGIA TEATRALE\, REGIA CINEMATOGRAFICA\, DANZA\, CANTO e VOCE\, DRAMMATURGIA E SCRITTURA CINEMATOGRAFICA\, MASCHERA\, ARTI MARZIALI\, FOTOGRAFIA CINEMATOGRAFICA E MOLTE ALTRE\, con alcuni tra i più importanti maestri europei: CESAR BRIE\, RAFAEL SPREGELBURD\, ROBERTA CARRERI\, MARIO BIAGINI\, ALESSIO NARDIN. \nAl corso possono accedere le persone che alla data di scadenza dell’iscrizione abbiano un’età compresa fra i 18 e i 40 anni (eventuali deroghe ai limiti d’età saranno valutate dalla Direzione). \nPer accedere è richiesto il titolo di studio di diploma di scuola media superiore. \nPrima fase: La domanda di ammissione alla prima fase\, indirizzata alla Direzione della Civica Accademia Eleonora Duse\, deve essere presentata utilizzando il modulo ufficiale di richiesta: https://www.accademiaduse.it/event/bando-di-ammissione/ che va spedito entro le ore 00:00 del 21 ottobre 2025 alla seguente mail: \naltaformazione@accademiaduse.it \nAlla medesima mail dovrà inoltre essere allegata la seguente documentazione: \n– autocertificazione relativa alla data ed al luogo di nascita\, alla residenza ed al titolo di studio conseguito; \n– 1 fotografia formato tessera (come quella per la carta d’identità); \n– copia di un documento d’identità valido e codice fiscale; \n– pagamento della tassa di iscrizione al provino prima fase di 40 Euro\, da versare tramite bonifico bancario prima della prova di ingresso come da punto 4 del bando scaricabile in pdf. \nProve di ammissione \nL’ammissione al corso è subordinata al superamento di una prova pratica d’ingresso consistente in: \n-1- recitazione a memoria di un monologo tratto da testo teatrale di autore conosciuto\, a scelta del candidato/a; \n-2- prova di dizione a memoria di una poesia in italiano di autore conosciuto\, a scelta del candidato; \n-3- prove di lettura\, movimento\, voce e improvvisazione. Il candidato/a potrà\, su sua specifica richiesta scritta\, effettuare prove ulteriori ed aggiuntive rispetto a quelle prefissate (es. canto\, mimo\, danza\, dialogo\, prova di dizione in dialetto e in altre lingue a scelta\, ecc.). Le prove di ammissione avranno inizio dal 17 novembre 2025. \nA seguito dell’avvenuto superamento delle selezioni\, l’ammissione al corso è confermata e l’allievo è tenuto al pagamento della tassa di frequenza annuale (2.400\,00/ duemila/00€). \nLe lezioni curriculari frontali si svolgeranno dal lunedì al venerdì. La frequenza è obbligatoria. \nIl Direttore della ACCADEMIA ELEONORA DUSE \nCentro Sperimentale di Cinema e Arti Performative. \nAlessio Nardin \n					\n				\n									BANDO_AMMISSIONE_2025_2026_AED
URL:https://www.accademiaduse.it/evento/bando-di-ammissione/
LOCATION:Teatro Duse\, Via Regina Cornaro\, 3\, Asolo\, TV\, 31011\, Italia
CATEGORIES:Masterclass
ATTACH;FMTTYPE=image/jpeg:https://www.accademiaduse.it/wp-content/uploads/2024/01/DSC_0083-scaled.jpg
ORGANIZER;CN="Accademia E. Duse":MAILTO:segreteria@accademiaduse.it
END:VEVENT
BEGIN:VEVENT
DTSTART;VALUE=DATE:20240511
DTEND;VALUE=DATE:20240627
DTSTAMP:20260423T195229
CREATED:20231230T230009Z
LAST-MODIFIED:20240608T094213Z
UID:3096-1715385600-1719446399@www.accademiaduse.it
SUMMARY:CICLO DI LEZIONI APERTE GRATUITAMENTE ALLA CITTADINANZA
DESCRIPTION:  \n ACCADEMIA ELEONORA DUSE \nCentro Sperimentale di Cinema e Arti Performative \n  \nCICLO DI LEZIONI APERTE GRATUITAMENTE ALLA CITTADINANZA \npresso \nTeatro Comunale “Eleonora Duse” di Asolo\, sede dell’Accademia Duse \n  \n  \n  \nLEZIONE DI NUMEROLOGIA E TERIA DELLO YIN E DELLO YANG \n  \n11 giugno 2024 dalle 17.30 alle 19.00 \npresso Teatro Duse di Asolo \nALESSIO CASAROTTO \n(maestro di Kung-Fu Gulun) \n  \n– le basi della numerologia e manifestazione della teoria dello yin e dello yang. \n– La teoria dei cinque movimenti (in gergo “elementi”) in relazione ai fenomeni naturali\, le emozioni\, i sapori/cibi\, i tessuti corporei\, i sensi ed i rispettivi rapporti organi/visceri intesi come funzioni vitali. Specificando ovviamente come tutti questi punti si relazionano ed interagisco tra loro. \n  \n  \n  \nLEZIONI DI ALTA FORMAZIONE DI STORIA E CRITICA DEL TEATRO \nnell’ambito del progetto PRIN PNRR 2022 Open Air Theatres in Italy \n  \n24 maggio dalle 17.00 alle 19.00 \npresso Teatro Duse di Asolo \nMARIA PIA PAGANI \n(Università degli Studi di Napoli “Federico II”) \n  \nla Duse e il Teatro Naturale del Grappa: i teatri naturali e i loro interpreti \n12 giugno dalle 17.00 alle 19.00 \nROBERTO CUPPONE \n(Università degli Studi di Genova) \n  \nIl servitore di due padroni del Piccolo Teatro di Milano (1947): il teatro come gioco. \n  \nProprio quest’anno si chiude l’esperienza di una delle prime e senz’altro la più lunga produzione del teatro pubblico (77 anni di vita\, 10 edizioni): attraverso la visione comparata di tre sue versioni si racconta come il teatro italiano del dopoguerra affidi la sua rinascita al paradossale incontro fra teatro di regia (Strehler) e Commedia dell’Arte; con uno storico recupero delle maschere perdute. \n  \n19 giugno dalle 17.00 alle 19.00ROBERTO CUPPONE \n(Università degli Studi di Genova) \n  \nIl milione dell’Odin Teatret (1979): il teatro come viaggio. \nLa più longeva compagnia teatrale internazionale in attività (60 anni) ha avuto in questo spettacolo il suo momento di crisi e ripartenza: gli attori\, dopo una diaspora in giro per il mondo\, hanno condiviso forme e linguaggi dei teatri più diversi\, miscelandoli in una esperienza che resta ancora oggi alla base della regia di montaggio e dei percorsi dell’antropologia teatrale. \n  \n26 giugno dalle 17.00 alle 19.00 ROBERTO CUPPONE \n(Università degli Studi di Genova) \n  \nThe Cryonic Chants della Socìetas Raffaello Sanzio (2004): il teatro come vertigine. \nAlla fine di un percorso triennale alla ricerca della tragedia oggi (Tragedia Endogonidia\, colossale progetto internazionale)\, la più conosciuta compagnia italiana di ricerca sintetizza in questa specie di postproduzione il senso di quel lungo attraversamento; parole e testi letteralmente prodotti da un capro si elevano a canto celestiale e riflessione su un’umanità eternamente presa fra Caos e Necessità. \nScarica il modulo privacy: [download id=”2480″]
URL:https://www.accademiaduse.it/evento/ciclo-di-lezioni-aperte-gratuitamente-alla-cittadinanza/
ATTACH;FMTTYPE=image/jpeg:https://www.accademiaduse.it/wp-content/uploads/2023/12/Duse-1920s.jpg
ORGANIZER;CN="Accademia E. Duse":MAILTO:segreteria@accademiaduse.it
END:VEVENT
END:VCALENDAR