BEGIN:VCALENDAR
VERSION:2.0
PRODID:-//Accademia Eleonora Duse - ECPv6.15.20//NONSGML v1.0//EN
CALSCALE:GREGORIAN
METHOD:PUBLISH
X-WR-CALNAME:Accademia Eleonora Duse
X-ORIGINAL-URL:https://www.accademiaduse.it
X-WR-CALDESC:Eventi per Accademia Eleonora Duse
REFRESH-INTERVAL;VALUE=DURATION:PT1H
X-Robots-Tag:noindex
X-PUBLISHED-TTL:PT1H
BEGIN:VTIMEZONE
TZID:Europe/Rome
BEGIN:DAYLIGHT
TZOFFSETFROM:+0100
TZOFFSETTO:+0200
TZNAME:CEST
DTSTART:20250330T010000
END:DAYLIGHT
BEGIN:STANDARD
TZOFFSETFROM:+0200
TZOFFSETTO:+0100
TZNAME:CET
DTSTART:20251026T010000
END:STANDARD
BEGIN:DAYLIGHT
TZOFFSETFROM:+0100
TZOFFSETTO:+0200
TZNAME:CEST
DTSTART:20260329T010000
END:DAYLIGHT
BEGIN:STANDARD
TZOFFSETFROM:+0200
TZOFFSETTO:+0100
TZNAME:CET
DTSTART:20261025T010000
END:STANDARD
BEGIN:DAYLIGHT
TZOFFSETFROM:+0100
TZOFFSETTO:+0200
TZNAME:CEST
DTSTART:20270328T010000
END:DAYLIGHT
BEGIN:STANDARD
TZOFFSETFROM:+0200
TZOFFSETTO:+0100
TZNAME:CET
DTSTART:20271031T010000
END:STANDARD
END:VTIMEZONE
BEGIN:VEVENT
DTSTART;TZID=Europe/Rome:20260319T210000
DTEND;TZID=Europe/Rome:20260319T220000
DTSTAMP:20260423T154644
CREATED:20260317T161401Z
LAST-MODIFIED:20260317T161448Z
UID:4845-1773954000-1773957600@www.accademiaduse.it
SUMMARY:L'attore tra cinema e teatro
DESCRIPTION:
URL:https://www.accademiaduse.it/evento/lattore-tra-cinema-e-teatro/
LOCATION:Sala Consiliare palazzo Beltramini\, Asolo
ATTACH;FMTTYPE=image/jpeg:https://www.accademiaduse.it/wp-content/uploads/2026/03/IMG-20260317-WA0000.jpg
ORGANIZER;CN="Accademia E. Duse":MAILTO:segreteria@accademiaduse.it
END:VEVENT
END:VCALENDAR