BEGIN:VCALENDAR
VERSION:2.0
PRODID:-//Accademia Eleonora Duse - ECPv6.15.20//NONSGML v1.0//EN
CALSCALE:GREGORIAN
METHOD:PUBLISH
X-WR-CALNAME:Accademia Eleonora Duse
X-ORIGINAL-URL:https://www.accademiaduse.it
X-WR-CALDESC:Eventi per Accademia Eleonora Duse
REFRESH-INTERVAL;VALUE=DURATION:PT1H
X-Robots-Tag:noindex
X-PUBLISHED-TTL:PT1H
BEGIN:VTIMEZONE
TZID:Europe/Rome
BEGIN:DAYLIGHT
TZOFFSETFROM:+0100
TZOFFSETTO:+0200
TZNAME:CEST
DTSTART:20250330T010000
END:DAYLIGHT
BEGIN:STANDARD
TZOFFSETFROM:+0200
TZOFFSETTO:+0100
TZNAME:CET
DTSTART:20251026T010000
END:STANDARD
BEGIN:DAYLIGHT
TZOFFSETFROM:+0100
TZOFFSETTO:+0200
TZNAME:CEST
DTSTART:20260329T010000
END:DAYLIGHT
BEGIN:STANDARD
TZOFFSETFROM:+0200
TZOFFSETTO:+0100
TZNAME:CET
DTSTART:20261025T010000
END:STANDARD
BEGIN:DAYLIGHT
TZOFFSETFROM:+0100
TZOFFSETTO:+0200
TZNAME:CEST
DTSTART:20270328T010000
END:DAYLIGHT
BEGIN:STANDARD
TZOFFSETFROM:+0200
TZOFFSETTO:+0100
TZNAME:CET
DTSTART:20271031T010000
END:STANDARD
END:VTIMEZONE
BEGIN:VEVENT
DTSTART;TZID=Europe/Rome:20260305T210000
DTEND;TZID=Europe/Rome:20260305T220000
DTSTAMP:20260423T154632
CREATED:20260302T145858Z
LAST-MODIFIED:20260302T145858Z
UID:4832-1772744400-1772748000@www.accademiaduse.it
SUMMARY:Storia di un'amicizia
DESCRIPTION:Lezione aperta alla cittadinanza. Con letture del libro e incontro con l’artista Ermanno Cavazzoni.
URL:https://www.accademiaduse.it/evento/storia-di-unamicizia/
LOCATION:Sala Consiliare palazzo Beltramini\, Asolo
ATTACH;FMTTYPE=image/png:https://www.accademiaduse.it/wp-content/uploads/2026/03/05-MARZO-2026_CAAVAZZONI.png
ORGANIZER;CN="Accademia E. Duse":MAILTO:segreteria@accademiaduse.it
END:VEVENT
END:VCALENDAR